BEGIN:VCALENDAR
VERSION:2.0
PRODID:-//hacksw/handcal//NONSGML v1.0//EN
CALSCALE:GREGORIAN
BEGIN:VEVENT
DTEND:20200105T180000
UID:69e9f18756f64
DTSTAMP:20260423T121639
LOCATION:Ehrenhof 4-5\, 40479 Düsseldorf
DESCRIPTION:Otto Piene (1928–2014) war Mitbegründer der Künstlergruppe ZERO und gehört zu den bedeutendsten deutschen Künstlern der Nachkriegszeit. In der Sammlung Kemp befinden sich 13 teils großformatige Gemälde, eine Lichtplastik und Arbeiten auf Papier, anhand derer sich Pienes Werk zwischen den 1960er-Jahren bis in die frühen 2000er-Jahre darstellen lässt.\n\nDie Ausstellung legt einen Schwerpunkt auf die Feuerbilder des Künstlers, mit denen er sein Interesse am Licht als künstlerisches Medium besonders überzeugend zum Ausdruck brachte.
URL;VALUE=URI:
SUMMARY:Otto Piene. Werke aus der Sammlung Kemp
DTSTART:20190822T080000
END:VEVENT
END:VCALENDAR