BEGIN:VCALENDAR
VERSION:2.0
PRODID:-//hacksw/handcal//NONSGML v1.0//EN
CALSCALE:GREGORIAN
BEGIN:VEVENT
DTEND:20200119T180000
UID:69eb17b9911d4
DTSTAMP:20260424T091153
LOCATION:Ständehausstraße 1\, 40217 Düsseldorf
DESCRIPTION:Die Ausstellung gibt einen Überblick über das Werk des Künstlers und Musikers Carsten Nicolai, der seit den frühen 1990er Jahren an der Schnittstelle von bildender Kunst, Musik und Naturwissenschaft arbeitet. Als Musiker ist Nicolai unter dem Pseudonym Alva Noto einer der bekanntesten Vertreter der zeitgenössischen elektronischen Musik seiner Generation. Seit seiner Teilnahme an der documenta X (1997) wird er auch als bildender Künstler weltweit ausgestellt. \n\nMit elektronischem Klang- und Lichtmaterial erzeugt Nicolai minimalistische Installationen, Sound Performances und Visualisierungen von physikalischen Phänomenen, die Systeme und Strukturen der Medienwelt reflektieren. Im K21 organisiert Nicolai den weitläufigen Raum im Untergeschoss als offenes, dual angelegtes Set für die Präsentation von etwa 40 multimedialen, vielfach auf Interaktion angelegten Arbeiten.
URL;VALUE=URI:
SUMMARY:Carsten Nicolai. Parallax Symmetry
DTSTART:20190928T080000
END:VEVENT
END:VCALENDAR