BEGIN:VCALENDAR
VERSION:2.0
PRODID:-//hacksw/handcal//NONSGML v1.0//EN
CALSCALE:GREGORIAN
BEGIN:VEVENT
DTEND:20171207T193000
UID:69e540432e3c5
DTSTAMP:20260419T225115
LOCATION:Cromforder Allee 24\, 40878 Ratingen
DESCRIPTION:Blue Hour Führung  durch die Sonderausstellung \n„Deutsche Strumpfdynastien. Maschen. Mode. Macher“\n\nAm Donnerstag, den 7. Dezember 2017 findet um 18:30 Uhr im LVR-Industriemuseum in Ratingen die erste Blue Hour Führung durch die Sonderausstellung „Deutsche Strumpfdynastien. Maschen. Mode. Macher“ statt. Nach der 1 ½-stündigen Führung kann bei einem Glas Sekt über die Ausstellung geplaudert werden.\n\nDas weibliche Bein mit hauchzartem Strumpf gilt bis heute als Inbegriff des sinnlich Begehrenswerten. Die Ausstellung nimmt die Besucherinnen und Besucher mit auf eine packende Zeitreise durch 150 Jahre Strumpfmode – vom verführerischen Nylonstrumpf bis zur bequemen Socke. Sie erzählt die Geschichte des Strumpfes nicht nur aus mode- und kulturhistorischer Perspektive, sondern nimmt auch berühmte Hersteller, wie beispielsweise Bahner mit der Marke ELBO, Kunert oder Falke in den Blick. Wie so oft, wenn es um Mode geht, richtet sich der Blick vor allem auf die Welt der Damen. Aber auch die Herrensocke hat ihren Platz. In der Ausstellung stellt eine Herrensocke alle anderen in den Schatten: eine königliche – die Socke Friedrich des Großen! \n\nDas Eintritt- und Führungsentgelt inklusive ein Glas Sekt beträgt für Erwachsene 14,00 Euro.\n\n\nInformationen: \nkulturinfo rheinland, Tel.: 02234 – 9921 - 555\noder\nLVR-Industriemuseum\nTextilfabrik Cromford,  Tel.: 02102 / 8 64 49 – 0\n\n
URL;VALUE=URI:
SUMMARY:Blue Hour Führung
DTSTART:20171207T183000
END:VEVENT
END:VCALENDAR