BEGIN:VCALENDAR
VERSION:2.0
PRODID:-//hacksw/handcal//NONSGML v1.0//EN
CALSCALE:GREGORIAN
BEGIN:VEVENT
DTEND:20160131T180000
UID:69ebbc934b2a2
DTSTAMP:20260424T205515
LOCATION:Am Schloss 4\, 47551 Bedburg-Hau
DESCRIPTION:Wundersame Ereignisse, fantastische Figuren, Fabeltiere, zauberhafte Wesen und magische Objekte zeichnen Märchen aus. Seit Jahrhunderten werden märchenhafte Erzählungen an die nachfolgenden Generationen überliefert. Gute Helden und ihre bösen Gegenspieler bleiben dabei nicht nur im Bereich der realen Lebenswelt, sondern überschreiten auch die Grenzen zum Traumhaften, Bizarren und Übersinnlichen.\n\nBis heute sind Märchen Ausgangspunkt für bildkünstlerische, literarische oder musikalische Werke: eines der bedeutendsten Beispiele ist das Map-penwerk von David Hockney zu den Märchen der Brüder Grimm.\n\nGrimms Märchen und David Hockney\nEine der wohl bekanntesten Märchensammlungen ist die der Brüder Grimm. Entsprechend vielfältig ist auch ihre Rezeption. Einige dieser Texte hat Fritz Lang (1877–1961), der auch ein gefragter Kinderbuchillustrator war, in farbi-gen Holzschnitten festgehalten.\n\nDer englische Künstler David Hockney (geb. 1937) illustrierte schon als jun-ger Künstler Märchen und Gedichte. Den Höhepunkt seiner Auseinanderset-zung mit literarischen Texten bilden die Six Fairy Tales from the Brothers Grimm. Es handelt sich dabei um eine Folge von Radierungen, die er 1970 in limitierter Auflage als Mappenwerk mit 39 Einzelblättern herausgab. Hockney verbindet in den Illustrationen eigene Bildvorstellungen und Motive aus sei-ner direkten Umgebung mit Vorbildern aus verschiedenen Epochen der Kunstgeschichte. Der Zyklus gehört zu seinen bekanntesten druckgrafischen Werken und wird im Museum Schloss Moyland vollständig gezeigt.\n\nMärchen als Inspirationsquelle für Künstler\nDie Präsentation KUNST. BEWEGT. 08 zeigt so mit vielen Beispielen aus der eigenen Sammlung, wie sich traditionelle Märchenstoffe in zahlreichen künstlerischen Arbeiten niederschlagen. Der Jugendstil knüpfte beispielswei-se mit seiner Begeisterung für Märchen an die Romantik an. Märchen wer-den in dieser Zeit als ein Gegenentwurf zur gesellschaftlichen Wirklichkeit mit ihrer fortschreitenden Industrialisierung angesehen. Zeitgleich nimmt sich die Psychoanalyse der Thematik von Träumen und Märchen an.\n\n„Der eigentliche Bereich des inneren Daseins ist das Märchen […]. Alle Märchen sind nur Träume von jener heimatlichen Welt, die überall und nirgends ist.“\nNovalis, 1798\n\nIndividuelle Bearbeitungen der Märchenstoffe zeigen etwa die Radierungen von Heinrich Vogeler (1872–1942), für die seine junge Braut Martha Modell stand, oder die Blätter aus der Mappe Sonnenmärchen von Fritz Hass (1864–1930), die sich der Sonnen- und Lichtmetaphorik widmen. Die Nacht-seite der Märchen und das Eindringen des Unheimlichen und Fantastischen in die geordnete bürgerliche Welt thematisiert Alfred Kubin (1877–1959) in seiner Mappe Rauhnacht.\n\nJoseph Beuys\nIn den frühen Zeichnungen von Joseph Beuys (1921–1986) versinnbildlichen Zauberinnen, Nornen und Nymphen den Bezug zu alten Mythen und Mär-chen. Diese Frauendarstellungen sind für Beuys Ausdruck aktiver Energie sowie schöpferischer und intuitiver Kräfte.\n\nSpuk im Schloss\nSogar der Ausstellungsort, das Schloss Moyland selbst, ist Ort einer Mär-chenhandlung: Die unheimlich-geheimnisvolle Stimmung in der ehemaligen Ruine fängt Gottfried Wiegand (1926–2005) in seinen Federzeichnungen zu Ingrid Bachérs (geb. 1930) Kunstmärchen Gespenster sieht man nicht ein.\n\nDie vielfältigen, so ganz unterschiedlichen Interpretationen von Märchen ma-chen deutlich, dass diese Stoffe bis heute nicht nur als Geschichten für Kin-der lebendig geblieben sind.
URL;VALUE=URI:
SUMMARY:Märchen und andere wundersame Geschichten - KUNST. BEWEGT. 08
DTSTART:20150927T080000
END:VEVENT
END:VCALENDAR